BEGIN:VCALENDAR
VERSION:2.0
PRODID:-//Coastal Alabama Senior Softball - ECPv6.13.2//NONSGML v1.0//EN
CALSCALE:GREGORIAN
METHOD:PUBLISH
X-ORIGINAL-URL:https://coastalalabamaseniorsoftball.com
X-WR-CALDESC:Events for Coastal Alabama Senior Softball
REFRESH-INTERVAL;VALUE=DURATION:PT1H
X-Robots-Tag:noindex
X-PUBLISHED-TTL:PT1H
BEGIN:VTIMEZONE
TZID:America/Chicago
BEGIN:DAYLIGHT
TZOFFSETFROM:-0600
TZOFFSETTO:-0500
TZNAME:CDT
DTSTART:20240310T080000
END:DAYLIGHT
BEGIN:STANDARD
TZOFFSETFROM:-0500
TZOFFSETTO:-0600
TZNAME:CST
DTSTART:20241103T070000
END:STANDARD
END:VTIMEZONE
BEGIN:VEVENT
DTSTART;TZID=America/Chicago:20240301T090000
DTEND;TZID=America/Chicago:20240301T120000
DTSTAMP:20260420T105359
CREATED:20240124T120042Z
LAST-MODIFIED:20240124T120444Z
UID:3477-1709283600-1709294400@coastalalabamaseniorsoftball.com
SUMMARY:Game at Orange Beach Sportsplex
DESCRIPTION:
URL:https://coastalalabamaseniorsoftball.com/event/game-at-orange-beach-sportsplex-15/
LOCATION:Orange Beach Sportsplex\, 4389 William Silvers Pkwy\, Orange Beach\, AL\, 36561\, United States
CATEGORIES:Games
END:VEVENT
BEGIN:VEVENT
DTSTART;TZID=America/Chicago:20240304T090000
DTEND;TZID=America/Chicago:20240304T120000
DTSTAMP:20260420T105359
CREATED:20240124T115627Z
LAST-MODIFIED:20240124T120453Z
UID:3465-1709542800-1709553600@coastalalabamaseniorsoftball.com
SUMMARY:Game at Gulf Shores Sportsplex
DESCRIPTION:
URL:https://coastalalabamaseniorsoftball.com/event/game-at-gulf-shores-sportsplex-45/
LOCATION:Gulf Shores Sportsplex\, 19025 Oak Road West\, Gulf Shores\, AL\, 36542\, United States
CATEGORIES:Games
END:VEVENT
BEGIN:VEVENT
DTSTART;TZID=America/Chicago:20240308T090000
DTEND;TZID=America/Chicago:20240308T120000
DTSTAMP:20260420T105359
CREATED:20240124T120616Z
LAST-MODIFIED:20240124T120616Z
UID:3479-1709888400-1709899200@coastalalabamaseniorsoftball.com
SUMMARY:Game at Orange Beach Sportsplex
DESCRIPTION:
URL:https://coastalalabamaseniorsoftball.com/event/game-at-orange-beach-sportsplex-16/
LOCATION:Orange Beach Sportsplex\, 4389 William Silvers Pkwy\, Orange Beach\, AL\, 36561\, United States
CATEGORIES:Games
END:VEVENT
BEGIN:VEVENT
DTSTART;TZID=America/Chicago:20240315T090000
DTEND;TZID=America/Chicago:20240315T120000
DTSTAMP:20260420T105359
CREATED:20240124T120654Z
LAST-MODIFIED:20240124T120654Z
UID:3481-1710493200-1710504000@coastalalabamaseniorsoftball.com
SUMMARY:Game at Orange Beach Sportsplex
DESCRIPTION:
URL:https://coastalalabamaseniorsoftball.com/event/game-at-orange-beach-sportsplex-17/
LOCATION:Orange Beach Sportsplex\, 4389 William Silvers Pkwy\, Orange Beach\, AL\, 36561\, United States
CATEGORIES:Games
END:VEVENT
BEGIN:VEVENT
DTSTART;TZID=America/Chicago:20240322T090000
DTEND;TZID=America/Chicago:20240322T120000
DTSTAMP:20260420T105359
CREATED:20240124T120724Z
LAST-MODIFIED:20240124T120724Z
UID:3483-1711098000-1711108800@coastalalabamaseniorsoftball.com
SUMMARY:Game at Orange Beach Sportsplex
DESCRIPTION:
URL:https://coastalalabamaseniorsoftball.com/event/game-at-orange-beach-sportsplex-18/
LOCATION:Orange Beach Sportsplex\, 4389 William Silvers Pkwy\, Orange Beach\, AL\, 36561\, United States
CATEGORIES:Games
END:VEVENT
BEGIN:VEVENT
DTSTART;TZID=America/Chicago:20240329T090000
DTEND;TZID=America/Chicago:20240329T120000
DTSTAMP:20260420T105359
CREATED:20240124T120750Z
LAST-MODIFIED:20240124T120750Z
UID:3485-1711702800-1711713600@coastalalabamaseniorsoftball.com
SUMMARY:Game at Orange Beach Sportsplex
DESCRIPTION:
URL:https://coastalalabamaseniorsoftball.com/event/game-at-orange-beach-sportsplex-19/
LOCATION:Orange Beach Sportsplex\, 4389 William Silvers Pkwy\, Orange Beach\, AL\, 36561\, United States
CATEGORIES:Games
END:VEVENT
END:VCALENDAR