BEGIN:VCALENDAR
VERSION:2.0
PRODID:-//Coastal Alabama Senior Softball - ECPv6.13.2//NONSGML v1.0//EN
CALSCALE:GREGORIAN
METHOD:PUBLISH
X-ORIGINAL-URL:https://coastalalabamaseniorsoftball.com
X-WR-CALDESC:Events for Coastal Alabama Senior Softball
REFRESH-INTERVAL;VALUE=DURATION:PT1H
X-Robots-Tag:noindex
X-PUBLISHED-TTL:PT1H
BEGIN:VTIMEZONE
TZID:America/Chicago
BEGIN:DAYLIGHT
TZOFFSETFROM:-0600
TZOFFSETTO:-0500
TZNAME:CDT
DTSTART:20240310T080000
END:DAYLIGHT
BEGIN:STANDARD
TZOFFSETFROM:-0500
TZOFFSETTO:-0600
TZNAME:CST
DTSTART:20241103T070000
END:STANDARD
END:VTIMEZONE
BEGIN:VEVENT
DTSTART;TZID=America/Chicago:20240202T090000
DTEND;TZID=America/Chicago:20240202T120000
DTSTAMP:20260420T142658
CREATED:20240124T115810Z
LAST-MODIFIED:20240124T120333Z
UID:3469-1706864400-1706875200@coastalalabamaseniorsoftball.com
SUMMARY:Game at Orange Beach Sportsplex
DESCRIPTION:
URL:https://coastalalabamaseniorsoftball.com/event/game-at-orange-beach-sportsplex-11/
LOCATION:Orange Beach Sportsplex\, 4389 William Silvers Pkwy\, Orange Beach\, AL\, 36561\, United States
CATEGORIES:Games
END:VEVENT
BEGIN:VEVENT
DTSTART;TZID=America/Chicago:20240205T090000
DTEND;TZID=America/Chicago:20240205T120000
DTSTAMP:20260420T142658
CREATED:20240124T115335Z
LAST-MODIFIED:20240124T120354Z
UID:3457-1707123600-1707134400@coastalalabamaseniorsoftball.com
SUMMARY:Game at Gulf Shores Sportsplex
DESCRIPTION:
URL:https://coastalalabamaseniorsoftball.com/event/game-at-gulf-shores-sportsplex-41/
LOCATION:Gulf Shores Sportsplex\, 19025 Oak Road West\, Gulf Shores\, AL\, 36542\, United States
CATEGORIES:Games
END:VEVENT
BEGIN:VEVENT
DTSTART;TZID=America/Chicago:20240209T090000
DTEND;TZID=America/Chicago:20240209T120000
DTSTAMP:20260420T142658
CREATED:20240124T115901Z
LAST-MODIFIED:20240124T120401Z
UID:3471-1707469200-1707480000@coastalalabamaseniorsoftball.com
SUMMARY:Game at Orange Beach Sportsplex
DESCRIPTION:
URL:https://coastalalabamaseniorsoftball.com/event/game-at-orange-beach-sportsplex-12/
LOCATION:Orange Beach Sportsplex\, 4389 William Silvers Pkwy\, Orange Beach\, AL\, 36561\, United States
CATEGORIES:Games
END:VEVENT
BEGIN:VEVENT
DTSTART;TZID=America/Chicago:20240212T090000
DTEND;TZID=America/Chicago:20240212T120000
DTSTAMP:20260420T142658
CREATED:20240124T115401Z
LAST-MODIFIED:20240124T120408Z
UID:3459-1707728400-1707739200@coastalalabamaseniorsoftball.com
SUMMARY:Game at Gulf Shores Sportsplex
DESCRIPTION:
URL:https://coastalalabamaseniorsoftball.com/event/game-at-gulf-shores-sportsplex-42/
LOCATION:Gulf Shores Sportsplex\, 19025 Oak Road West\, Gulf Shores\, AL\, 36542\, United States
CATEGORIES:Games
END:VEVENT
BEGIN:VEVENT
DTSTART;TZID=America/Chicago:20240216T090000
DTEND;TZID=America/Chicago:20240216T120000
DTSTAMP:20260420T142658
CREATED:20240124T115926Z
LAST-MODIFIED:20240124T120416Z
UID:3473-1708074000-1708084800@coastalalabamaseniorsoftball.com
SUMMARY:Game at Orange Beach Sportsplex
DESCRIPTION:
URL:https://coastalalabamaseniorsoftball.com/event/game-at-orange-beach-sportsplex-13/
LOCATION:Orange Beach Sportsplex\, 4389 William Silvers Pkwy\, Orange Beach\, AL\, 36561\, United States
CATEGORIES:Games
END:VEVENT
BEGIN:VEVENT
DTSTART;TZID=America/Chicago:20240219T090000
DTEND;TZID=America/Chicago:20240219T120000
DTSTAMP:20260420T142658
CREATED:20240124T115429Z
LAST-MODIFIED:20240124T120423Z
UID:3461-1708333200-1708344000@coastalalabamaseniorsoftball.com
SUMMARY:Game at Gulf Shores Sportsplex
DESCRIPTION:
URL:https://coastalalabamaseniorsoftball.com/event/game-at-gulf-shores-sportsplex-43/
LOCATION:Gulf Shores Sportsplex\, 19025 Oak Road West\, Gulf Shores\, AL\, 36542\, United States
CATEGORIES:Games
END:VEVENT
BEGIN:VEVENT
DTSTART;TZID=America/Chicago:20240223T090000
DTEND;TZID=America/Chicago:20240223T120000
DTSTAMP:20260420T142658
CREATED:20240124T115952Z
LAST-MODIFIED:20240124T120430Z
UID:3475-1708678800-1708689600@coastalalabamaseniorsoftball.com
SUMMARY:Game at Orange Beach Sportsplex
DESCRIPTION:
URL:https://coastalalabamaseniorsoftball.com/event/game-at-orange-beach-sportsplex-14/
LOCATION:Orange Beach Sportsplex\, 4389 William Silvers Pkwy\, Orange Beach\, AL\, 36561\, United States
CATEGORIES:Games
END:VEVENT
BEGIN:VEVENT
DTSTART;TZID=America/Chicago:20240226T090000
DTEND;TZID=America/Chicago:20240226T120000
DTSTAMP:20260420T142658
CREATED:20240124T115523Z
LAST-MODIFIED:20240124T120437Z
UID:3463-1708938000-1708948800@coastalalabamaseniorsoftball.com
SUMMARY:Game at Gulf Shores Sportsplex
DESCRIPTION:
URL:https://coastalalabamaseniorsoftball.com/event/game-at-gulf-shores-sportsplex-44/
LOCATION:Gulf Shores Sportsplex\, 19025 Oak Road West\, Gulf Shores\, AL\, 36542\, United States
CATEGORIES:Games
END:VEVENT
END:VCALENDAR