BEGIN:VCALENDAR
VERSION:2.0
PRODID:-//Coastal Alabama Senior Softball - ECPv6.13.2//NONSGML v1.0//EN
CALSCALE:GREGORIAN
METHOD:PUBLISH
X-WR-CALNAME:Coastal Alabama Senior Softball
X-ORIGINAL-URL:https://coastalalabamaseniorsoftball.com
X-WR-CALDESC:Events for Coastal Alabama Senior Softball
REFRESH-INTERVAL;VALUE=DURATION:PT1H
X-Robots-Tag:noindex
X-PUBLISHED-TTL:PT1H
BEGIN:VTIMEZONE
TZID:America/Chicago
BEGIN:DAYLIGHT
TZOFFSETFROM:-0600
TZOFFSETTO:-0500
TZNAME:CDT
DTSTART:20230312T080000
END:DAYLIGHT
BEGIN:STANDARD
TZOFFSETFROM:-0500
TZOFFSETTO:-0600
TZNAME:CST
DTSTART:20231105T070000
END:STANDARD
END:VTIMEZONE
BEGIN:VEVENT
DTSTART;TZID=America/Chicago:20231103T090000
DTEND;TZID=America/Chicago:20231103T120000
DTSTAMP:20260420T201248
CREATED:20230820T110213Z
LAST-MODIFIED:20230820T110213Z
UID:3392-1699002000-1699012800@coastalalabamaseniorsoftball.com
SUMMARY:Game at Orange Beach Sportsplex in Orange Beach
DESCRIPTION:
URL:https://coastalalabamaseniorsoftball.com/event/game-at-orange-beach-sportsplex-in-orange-beach-16/
LOCATION:Orange Beach Sportsplex\, 4389 William Silvers Pkwy\, Orange Beach\, AL\, 36561\, United States
CATEGORIES:Games
END:VEVENT
BEGIN:VEVENT
DTSTART;TZID=America/Chicago:20231106T090000
DTEND;TZID=America/Chicago:20231106T120000
DTSTAMP:20260420T201248
CREATED:20230820T112348Z
LAST-MODIFIED:20230820T112437Z
UID:3432-1699261200-1699272000@coastalalabamaseniorsoftball.com
SUMMARY:Game at Aaronville Park in Foley
DESCRIPTION:
URL:https://coastalalabamaseniorsoftball.com/event/game-at-aaronville-park-in-foley-14/
LOCATION:Aaronville Park\, 1409 S. Pine Street\, Foley\, AL\, 36535\, United States
CATEGORIES:Games
END:VEVENT
BEGIN:VEVENT
DTSTART;TZID=America/Chicago:20231110T090000
DTEND;TZID=America/Chicago:20231110T120000
DTSTAMP:20260420T201248
CREATED:20230820T110412Z
LAST-MODIFIED:20230820T110412Z
UID:3394-1699606800-1699617600@coastalalabamaseniorsoftball.com
SUMMARY:Game at Orange Beach Sportsplex in Orange Beach
DESCRIPTION:
URL:https://coastalalabamaseniorsoftball.com/event/game-at-orange-beach-sportsplex-in-orange-beach-17/
LOCATION:Orange Beach Sportsplex\, 4389 William Silvers Pkwy\, Orange Beach\, AL\, 36561\, United States
CATEGORIES:Games
END:VEVENT
BEGIN:VEVENT
DTSTART;TZID=America/Chicago:20231113T090000
DTEND;TZID=America/Chicago:20231113T120000
DTSTAMP:20260420T201248
CREATED:20230820T112523Z
LAST-MODIFIED:20230820T112523Z
UID:3434-1699866000-1699876800@coastalalabamaseniorsoftball.com
SUMMARY:Game at Aaronville Park in Foley
DESCRIPTION:
URL:https://coastalalabamaseniorsoftball.com/event/game-at-aaronville-park-in-foley-15/
LOCATION:Aaronville Park\, 1409 S. Pine Street\, Foley\, AL\, 36535\, United States
CATEGORIES:Games
END:VEVENT
BEGIN:VEVENT
DTSTART;TZID=America/Chicago:20231117T090000
DTEND;TZID=America/Chicago:20231117T120000
DTSTAMP:20260420T201248
CREATED:20230820T110459Z
LAST-MODIFIED:20230820T110459Z
UID:3396-1700211600-1700222400@coastalalabamaseniorsoftball.com
SUMMARY:Game at Orange Beach Sportsplex in Orange Beach
DESCRIPTION:
URL:https://coastalalabamaseniorsoftball.com/event/game-at-orange-beach-sportsplex-in-orange-beach-18/
LOCATION:Orange Beach Sportsplex\, 4389 William Silvers Pkwy\, Orange Beach\, AL\, 36561\, United States
CATEGORIES:Games
END:VEVENT
BEGIN:VEVENT
DTSTART;TZID=America/Chicago:20231120T090000
DTEND;TZID=America/Chicago:20231120T120000
DTSTAMP:20260420T201248
CREATED:20230820T112633Z
LAST-MODIFIED:20230820T112633Z
UID:3436-1700470800-1700481600@coastalalabamaseniorsoftball.com
SUMMARY:Game at Aaronville Park in Foley
DESCRIPTION:
URL:https://coastalalabamaseniorsoftball.com/event/game-at-aaronville-park-in-foley-16/
LOCATION:Aaronville Park\, 1409 S. Pine Street\, Foley\, AL\, 36535\, United States
CATEGORIES:Games
END:VEVENT
BEGIN:VEVENT
DTSTART;TZID=America/Chicago:20231124T090000
DTEND;TZID=America/Chicago:20231124T120000
DTSTAMP:20260420T201248
CREATED:20230820T110548Z
LAST-MODIFIED:20230820T110548Z
UID:3398-1700816400-1700827200@coastalalabamaseniorsoftball.com
SUMMARY:Game at Orange Beach Sportsplex in Orange Beach
DESCRIPTION:
URL:https://coastalalabamaseniorsoftball.com/event/game-at-orange-beach-sportsplex-in-orange-beach-19/
LOCATION:Orange Beach Sportsplex\, 4389 William Silvers Pkwy\, Orange Beach\, AL\, 36561\, United States
CATEGORIES:Games
END:VEVENT
BEGIN:VEVENT
DTSTART;TZID=America/Chicago:20231127T090000
DTEND;TZID=America/Chicago:20231127T120000
DTSTAMP:20260420T201248
CREATED:20230820T112710Z
LAST-MODIFIED:20230820T112710Z
UID:3438-1701075600-1701086400@coastalalabamaseniorsoftball.com
SUMMARY:Game at Aaronville Park in Foley
DESCRIPTION:
URL:https://coastalalabamaseniorsoftball.com/event/game-at-aaronville-park-in-foley-17/
LOCATION:Aaronville Park\, 1409 S. Pine Street\, Foley\, AL\, 36535\, United States
CATEGORIES:Games
END:VEVENT
END:VCALENDAR