BEGIN:VCALENDAR
VERSION:2.0
PRODID:-//Coastal Alabama Senior Softball - ECPv6.13.2//NONSGML v1.0//EN
CALSCALE:GREGORIAN
METHOD:PUBLISH
X-WR-CALNAME:Coastal Alabama Senior Softball
X-ORIGINAL-URL:https://coastalalabamaseniorsoftball.com
X-WR-CALDESC:Events for Coastal Alabama Senior Softball
REFRESH-INTERVAL;VALUE=DURATION:PT1H
X-Robots-Tag:noindex
X-PUBLISHED-TTL:PT1H
BEGIN:VTIMEZONE
TZID:America/Chicago
BEGIN:DAYLIGHT
TZOFFSETFROM:-0600
TZOFFSETTO:-0500
TZNAME:CDT
DTSTART:20230312T080000
END:DAYLIGHT
BEGIN:STANDARD
TZOFFSETFROM:-0500
TZOFFSETTO:-0600
TZNAME:CST
DTSTART:20231105T070000
END:STANDARD
END:VTIMEZONE
BEGIN:VEVENT
DTSTART;TZID=America/Chicago:20230602T090000
DTEND;TZID=America/Chicago:20230602T120000
DTSTAMP:20260421T082717
CREATED:20230501T103926Z
LAST-MODIFIED:20230501T103926Z
UID:3319-1685696400-1685707200@coastalalabamaseniorsoftball.com
SUMMARY:Game at Aaronville Park in Foley
DESCRIPTION:
URL:https://coastalalabamaseniorsoftball.com/event/game-at-aaronville-park-in-foley-3/
LOCATION:Aaronville Park\, 1409 S. Pine Street\, Foley\, AL\, 36535\, United States
CATEGORIES:Games
END:VEVENT
BEGIN:VEVENT
DTSTART;TZID=America/Chicago:20230605T090000
DTEND;TZID=America/Chicago:20230605T120000
DTSTAMP:20260421T082717
CREATED:20230509T112519Z
LAST-MODIFIED:20230509T112748Z
UID:3326-1685955600-1685966400@coastalalabamaseniorsoftball.com
SUMMARY:Game at Johnny Sims Park in Gulf Shores
DESCRIPTION:
URL:https://coastalalabamaseniorsoftball.com/event/game-at-gulf-shores-johnny-sims-park/
LOCATION:Johnnie Sims Park\, 2008 W. 3rd St\, Gulf Shores\, 36542\, United States
CATEGORIES:Games
END:VEVENT
BEGIN:VEVENT
DTSTART;TZID=America/Chicago:20230609T080000
DTEND;TZID=America/Chicago:20230609T120000
DTSTAMP:20260421T082717
CREATED:20230509T112845Z
LAST-MODIFIED:20230509T112845Z
UID:3328-1686297600-1686312000@coastalalabamaseniorsoftball.com
SUMMARY:Game at Aaronville Park in Foley
DESCRIPTION:
URL:https://coastalalabamaseniorsoftball.com/event/game-at-aaronville-park-in-foley-4/
LOCATION:Aaronville Park\, 1409 S. Pine Street\, Foley\, AL\, 36535\, United States
CATEGORIES:Games
END:VEVENT
BEGIN:VEVENT
DTSTART;TZID=America/Chicago:20230612T090000
DTEND;TZID=America/Chicago:20230612T120000
DTSTAMP:20260421T082717
CREATED:20230509T112952Z
LAST-MODIFIED:20230509T112952Z
UID:3332-1686560400-1686571200@coastalalabamaseniorsoftball.com
SUMMARY:Game at Johnny Sims Park in Gulf Shores
DESCRIPTION:
URL:https://coastalalabamaseniorsoftball.com/event/game-at-johnny-sims-park-in-gulf-shores/
LOCATION:Johnnie Sims Park\, 2008 W. 3rd St\, Gulf Shores\, 36542\, United States
CATEGORIES:Games
END:VEVENT
BEGIN:VEVENT
DTSTART;TZID=America/Chicago:20230616T090000
DTEND;TZID=America/Chicago:20230616T120000
DTSTAMP:20260421T082717
CREATED:20230509T113254Z
LAST-MODIFIED:20230509T113254Z
UID:3336-1686906000-1686916800@coastalalabamaseniorsoftball.com
SUMMARY:Game at Aaronville Park in Foley
DESCRIPTION:
URL:https://coastalalabamaseniorsoftball.com/event/game-at-aaronville-park-in-foley-5/
LOCATION:Aaronville Park\, 1409 S. Pine Street\, Foley\, AL\, 36535\, United States
CATEGORIES:Games
END:VEVENT
BEGIN:VEVENT
DTSTART;TZID=America/Chicago:20230619T090000
DTEND;TZID=America/Chicago:20230619T120000
DTSTAMP:20260421T082717
CREATED:20230509T113128Z
LAST-MODIFIED:20230509T113145Z
UID:3334-1687165200-1687176000@coastalalabamaseniorsoftball.com
SUMMARY:Game at Johnny Sims Park in Gulf Shores
DESCRIPTION:
URL:https://coastalalabamaseniorsoftball.com/event/game-at-johnny-sims-park-in-gulf-shores-2/
LOCATION:Johnnie Sims Park\, 2008 W. 3rd St\, Gulf Shores\, 36542\, United States
CATEGORIES:Games
END:VEVENT
BEGIN:VEVENT
DTSTART;TZID=America/Chicago:20230623T090000
DTEND;TZID=America/Chicago:20230623T120000
DTSTAMP:20260421T082717
CREATED:20230509T113347Z
LAST-MODIFIED:20230509T113347Z
UID:3338-1687510800-1687521600@coastalalabamaseniorsoftball.com
SUMMARY:Game at Aaronville Park in Foley
DESCRIPTION:
URL:https://coastalalabamaseniorsoftball.com/event/game-at-aaronville-park-in-foley-6/
LOCATION:Aaronville Park\, 1409 S. Pine Street\, Foley\, AL\, 36535\, United States
CATEGORIES:Games
END:VEVENT
BEGIN:VEVENT
DTSTART;TZID=America/Chicago:20230626T090000
DTEND;TZID=America/Chicago:20230626T120000
DTSTAMP:20260421T082717
CREATED:20230509T113942Z
LAST-MODIFIED:20230509T113942Z
UID:3352-1687770000-1687780800@coastalalabamaseniorsoftball.com
SUMMARY:Game at Johnny Sims Park in Gulf Shores
DESCRIPTION:
URL:https://coastalalabamaseniorsoftball.com/event/game-at-johnny-sims-park-in-gulf-shores-3/
LOCATION:Johnnie Sims Park\, 2008 W. 3rd St\, Gulf Shores\, 36542\, United States
CATEGORIES:Games
END:VEVENT
BEGIN:VEVENT
DTSTART;TZID=America/Chicago:20230630T090000
DTEND;TZID=America/Chicago:20230630T120000
DTSTAMP:20260421T082717
CREATED:20230509T113419Z
LAST-MODIFIED:20230509T113419Z
UID:3340-1688115600-1688126400@coastalalabamaseniorsoftball.com
SUMMARY:Game at Aaronville Park in Foley
DESCRIPTION:
URL:https://coastalalabamaseniorsoftball.com/event/game-at-aaronville-park-in-foley-7/
LOCATION:Aaronville Park\, 1409 S. Pine Street\, Foley\, AL\, 36535\, United States
CATEGORIES:Games
END:VEVENT
END:VCALENDAR