BEGIN:VCALENDAR
VERSION:2.0
PRODID:-//Coastal Alabama Senior Softball - ECPv6.13.2//NONSGML v1.0//EN
CALSCALE:GREGORIAN
METHOD:PUBLISH
X-ORIGINAL-URL:https://coastalalabamaseniorsoftball.com
X-WR-CALDESC:Events for Coastal Alabama Senior Softball
REFRESH-INTERVAL;VALUE=DURATION:PT1H
X-Robots-Tag:noindex
X-PUBLISHED-TTL:PT1H
BEGIN:VTIMEZONE
TZID:America/Chicago
BEGIN:DAYLIGHT
TZOFFSETFROM:-0600
TZOFFSETTO:-0500
TZNAME:CDT
DTSTART:20230312T080000
END:DAYLIGHT
BEGIN:STANDARD
TZOFFSETFROM:-0500
TZOFFSETTO:-0600
TZNAME:CST
DTSTART:20231105T070000
END:STANDARD
END:VTIMEZONE
BEGIN:VEVENT
DTSTART;TZID=America/Chicago:20230501T090000
DTEND;TZID=America/Chicago:20230501T120000
DTSTAMP:20260423T054400
CREATED:20230213T172835Z
LAST-MODIFIED:20230501T103316Z
UID:3239-1682931600-1682942400@coastalalabamaseniorsoftball.com
SUMMARY:Game at Aaronville Park in Foley
DESCRIPTION:
URL:https://coastalalabamaseniorsoftball.com/event/game-at-max-griffin-park-in-foley-5/
LOCATION:Aaronville Park\, 1409 S. Pine Street\, Foley\, AL\, 36535\, United States
CATEGORIES:Games
END:VEVENT
BEGIN:VEVENT
DTSTART;TZID=America/Chicago:20230505T090000
DTEND;TZID=America/Chicago:20230505T120000
DTSTAMP:20260423T054400
CREATED:20230213T172956Z
LAST-MODIFIED:20230501T103250Z
UID:3241-1683277200-1683288000@coastalalabamaseniorsoftball.com
SUMMARY:Game at Orange Beach Sportsplex in Orange Beach
DESCRIPTION:
URL:https://coastalalabamaseniorsoftball.com/event/game-at-max-griffin-park-in-foley-6/
LOCATION:Orange Beach Sportsplex\, 4389 William Silvers Pkwy\, Orange Beach\, AL\, 36561\, United States
CATEGORIES:Games
END:VEVENT
BEGIN:VEVENT
DTSTART;TZID=America/Chicago:20230508T090000
DTEND;TZID=America/Chicago:20230508T120000
DTSTAMP:20260423T054400
CREATED:20230213T173032Z
LAST-MODIFIED:20230501T103402Z
UID:3243-1683536400-1683547200@coastalalabamaseniorsoftball.com
SUMMARY:Game at Aaronville Park in Foley
DESCRIPTION:
URL:https://coastalalabamaseniorsoftball.com/event/game-at-max-griffin-park-in-foley-7/
LOCATION:Aaronville Park\, 1409 S. Pine Street\, Foley\, AL\, 36535\, United States
CATEGORIES:Games
END:VEVENT
BEGIN:VEVENT
DTSTART;TZID=America/Chicago:20230512T090000
DTEND;TZID=America/Chicago:20230512T120000
DTSTAMP:20260423T054400
CREATED:20230213T173109Z
LAST-MODIFIED:20230501T103448Z
UID:3245-1683882000-1683892800@coastalalabamaseniorsoftball.com
SUMMARY:Game at Orange Beach Sportsplex in Orange Beach
DESCRIPTION:
URL:https://coastalalabamaseniorsoftball.com/event/game-at-max-griffin-park-in-foley-8/
LOCATION:Orange Beach Sportsplex\, 4389 William Silvers Pkwy\, Orange Beach\, AL\, 36561\, United States
CATEGORIES:Games
END:VEVENT
BEGIN:VEVENT
DTSTART;TZID=America/Chicago:20230515T090000
DTEND;TZID=America/Chicago:20230515T120000
DTSTAMP:20260423T054400
CREATED:20230213T172211Z
LAST-MODIFIED:20230501T103626Z
UID:3226-1684141200-1684152000@coastalalabamaseniorsoftball.com
SUMMARY:Game at Gulf Shores Sportsplex in Gulf Shores
DESCRIPTION:
URL:https://coastalalabamaseniorsoftball.com/event/game-at-gulf-shores-sportsplex-38/
LOCATION:Gulf Shores Sportsplex\, 19025 Oak Road West\, Gulf Shores\, AL\, 36542\, United States
CATEGORIES:Games
END:VEVENT
BEGIN:VEVENT
DTSTART;TZID=America/Chicago:20230519T090000
DTEND;TZID=America/Chicago:20230519T120000
DTSTAMP:20260423T054400
CREATED:20230213T173145Z
LAST-MODIFIED:20230501T103518Z
UID:3247-1684486800-1684497600@coastalalabamaseniorsoftball.com
SUMMARY:Game at Orange Beach Sportsplex in Orange Beach
DESCRIPTION:
URL:https://coastalalabamaseniorsoftball.com/event/game-at-max-griffin-park-in-foley-9/
LOCATION:Orange Beach Sportsplex\, 4389 William Silvers Pkwy\, Orange Beach\, AL\, 36561\, United States
CATEGORIES:Games
END:VEVENT
BEGIN:VEVENT
DTSTART;TZID=America/Chicago:20230522T090000
DTEND;TZID=America/Chicago:20230522T120000
DTSTAMP:20260423T054400
CREATED:20230213T172251Z
LAST-MODIFIED:20230501T103600Z
UID:3228-1684746000-1684756800@coastalalabamaseniorsoftball.com
SUMMARY:Game at Gulf Shores Sportsplex in Gulf Shores
DESCRIPTION:
URL:https://coastalalabamaseniorsoftball.com/event/game-at-gulf-shores-sportsplex-39/
LOCATION:Gulf Shores Sportsplex\, 19025 Oak Road West\, Gulf Shores\, AL\, 36542\, United States
CATEGORIES:Games
END:VEVENT
BEGIN:VEVENT
DTSTART;TZID=America/Chicago:20230526T090000
DTEND;TZID=America/Chicago:20230526T120000
DTSTAMP:20260423T054400
CREATED:20230213T173216Z
LAST-MODIFIED:20230501T103714Z
UID:3249-1685091600-1685102400@coastalalabamaseniorsoftball.com
SUMMARY:Game at Orange Beach Sportsplex in Orange Beach
DESCRIPTION:
URL:https://coastalalabamaseniorsoftball.com/event/game-at-max-griffin-park-in-foley-10/
LOCATION:Orange Beach Sportsplex\, 4389 William Silvers Pkwy\, Orange Beach\, AL\, 36561\, United States
CATEGORIES:Games
END:VEVENT
BEGIN:VEVENT
DTSTART;TZID=America/Chicago:20230526T090000
DTEND;TZID=America/Chicago:20230526T120000
DTSTAMP:20260423T054400
CREATED:20230501T103059Z
LAST-MODIFIED:20230509T112656Z
UID:3305-1685091600-1685102400@coastalalabamaseniorsoftball.com
SUMMARY:Game at Orange Beach Sportsplex in Orange Beach
DESCRIPTION:
URL:https://coastalalabamaseniorsoftball.com/event/game-at-orange-beach/
LOCATION:Orange Beach Sportsplex\, 4389 William Silvers Pkwy\, Orange Beach\, AL\, 36561\, United States
CATEGORIES:Games
END:VEVENT
BEGIN:VEVENT
DTSTART;TZID=America/Chicago:20230529T090000
DTEND;TZID=America/Chicago:20230529T120000
DTSTAMP:20260423T054400
CREATED:20230501T103141Z
LAST-MODIFIED:20230501T103801Z
UID:3307-1685350800-1685361600@coastalalabamaseniorsoftball.com
SUMMARY:Game at Aaronville Park in Foley
DESCRIPTION:
URL:https://coastalalabamaseniorsoftball.com/event/game-at-foley/
LOCATION:Aaronville Park\, 1409 S. Pine Street\, Foley\, AL\, 36535\, United States
CATEGORIES:Games
END:VEVENT
END:VCALENDAR