BEGIN:VCALENDAR
VERSION:2.0
PRODID:-//Coastal Alabama Senior Softball - ECPv6.13.2//NONSGML v1.0//EN
CALSCALE:GREGORIAN
METHOD:PUBLISH
X-ORIGINAL-URL:https://coastalalabamaseniorsoftball.com
X-WR-CALDESC:Events for Coastal Alabama Senior Softball
REFRESH-INTERVAL;VALUE=DURATION:PT1H
X-Robots-Tag:noindex
X-PUBLISHED-TTL:PT1H
BEGIN:VTIMEZONE
TZID:America/Chicago
BEGIN:DAYLIGHT
TZOFFSETFROM:-0600
TZOFFSETTO:-0500
TZNAME:CDT
DTSTART:20230312T080000
END:DAYLIGHT
BEGIN:STANDARD
TZOFFSETFROM:-0500
TZOFFSETTO:-0600
TZNAME:CST
DTSTART:20231105T070000
END:STANDARD
END:VTIMEZONE
BEGIN:VEVENT
DTSTART;TZID=America/Chicago:20230403T090000
DTEND;TZID=America/Chicago:20230403T120000
DTSTAMP:20260423T103601
CREATED:20230213T172750Z
LAST-MODIFIED:20230213T172750Z
UID:3237-1680512400-1680523200@coastalalabamaseniorsoftball.com
SUMMARY:Game at Aaronville Park in Foley
DESCRIPTION:
URL:https://coastalalabamaseniorsoftball.com/event/game-at-aaronville-park-in-foley-2/
LOCATION:Aaronville Park\, 1409 S. Pine Street\, Foley\, AL\, 36535\, United States
CATEGORIES:Games
END:VEVENT
BEGIN:VEVENT
DTSTART;TZID=America/Chicago:20230407T090000
DTEND;TZID=America/Chicago:20230407T120000
DTSTAMP:20260423T103601
CREATED:20230213T171403Z
LAST-MODIFIED:20230213T171403Z
UID:3206-1680858000-1680868800@coastalalabamaseniorsoftball.com
SUMMARY:Game at Orange Beach Sportsplex
DESCRIPTION:
URL:https://coastalalabamaseniorsoftball.com/event/game-at-orange-beach-sportsplex-6/
LOCATION:Orange Beach Sportsplex\, 4389 William Silvers Pkwy\, Orange Beach\, AL\, 36561\, United States
CATEGORIES:Games
END:VEVENT
BEGIN:VEVENT
DTSTART;TZID=America/Chicago:20230410T090000
DTEND;TZID=America/Chicago:20230410T120000
DTSTAMP:20260423T103601
CREATED:20230213T172009Z
LAST-MODIFIED:20230213T172009Z
UID:3220-1681117200-1681128000@coastalalabamaseniorsoftball.com
SUMMARY:Game at Gulf Shores Sportsplex
DESCRIPTION:
URL:https://coastalalabamaseniorsoftball.com/event/game-at-gulf-shores-sportsplex-35/
LOCATION:Gulf Shores Sportsplex\, 19025 Oak Road West\, Gulf Shores\, AL\, 36542\, United States
CATEGORIES:Games
END:VEVENT
BEGIN:VEVENT
DTSTART;TZID=America/Chicago:20230414T090000
DTEND;TZID=America/Chicago:20230414T120000
DTSTAMP:20260423T103601
CREATED:20230213T171431Z
LAST-MODIFIED:20230213T171431Z
UID:3208-1681462800-1681473600@coastalalabamaseniorsoftball.com
SUMMARY:Game at Orange Beach Sportsplex
DESCRIPTION:
URL:https://coastalalabamaseniorsoftball.com/event/game-at-orange-beach-sportsplex-7/
LOCATION:Orange Beach Sportsplex\, 4389 William Silvers Pkwy\, Orange Beach\, AL\, 36561\, United States
CATEGORIES:Games
END:VEVENT
BEGIN:VEVENT
DTSTART;TZID=America/Chicago:20230417T090000
DTEND;TZID=America/Chicago:20230417T120000
DTSTAMP:20260423T103601
CREATED:20230213T172052Z
LAST-MODIFIED:20230213T172052Z
UID:3222-1681722000-1681732800@coastalalabamaseniorsoftball.com
SUMMARY:Game at Gulf Shores Sportsplex
DESCRIPTION:
URL:https://coastalalabamaseniorsoftball.com/event/game-at-gulf-shores-sportsplex-36/
LOCATION:Gulf Shores Sportsplex\, 19025 Oak Road West\, Gulf Shores\, AL\, 36542\, United States
CATEGORIES:Games
END:VEVENT
BEGIN:VEVENT
DTSTART;TZID=America/Chicago:20230421T090000
DTEND;TZID=America/Chicago:20230421T120000
DTSTAMP:20260423T103601
CREATED:20230213T171527Z
LAST-MODIFIED:20230213T171527Z
UID:3210-1682067600-1682078400@coastalalabamaseniorsoftball.com
SUMMARY:Game at Orange Beach Sportsplex
DESCRIPTION:
URL:https://coastalalabamaseniorsoftball.com/event/game-at-orange-beach-sportsplex-8/
LOCATION:Orange Beach Sportsplex\, 4389 William Silvers Pkwy\, Orange Beach\, AL\, 36561\, United States
CATEGORIES:Games
END:VEVENT
BEGIN:VEVENT
DTSTART;TZID=America/Chicago:20230424T090000
DTEND;TZID=America/Chicago:20230424T120000
DTSTAMP:20260423T103601
CREATED:20230213T172122Z
LAST-MODIFIED:20230213T172122Z
UID:3224-1682326800-1682337600@coastalalabamaseniorsoftball.com
SUMMARY:Game at Gulf Shores Sportsplex
DESCRIPTION:
URL:https://coastalalabamaseniorsoftball.com/event/game-at-gulf-shores-sportsplex-37/
LOCATION:Gulf Shores Sportsplex\, 19025 Oak Road West\, Gulf Shores\, AL\, 36542\, United States
CATEGORIES:Games
END:VEVENT
BEGIN:VEVENT
DTSTART;TZID=America/Chicago:20230428T090000
DTEND;TZID=America/Chicago:20230428T120000
DTSTAMP:20260423T103601
CREATED:20230213T171548Z
LAST-MODIFIED:20230213T171548Z
UID:3212-1682672400-1682683200@coastalalabamaseniorsoftball.com
SUMMARY:Game at Orange Beach Sportsplex
DESCRIPTION:
URL:https://coastalalabamaseniorsoftball.com/event/game-at-orange-beach-sportsplex-9/
LOCATION:Orange Beach Sportsplex\, 4389 William Silvers Pkwy\, Orange Beach\, AL\, 36561\, United States
CATEGORIES:Games
END:VEVENT
END:VCALENDAR