BEGIN:VCALENDAR
VERSION:2.0
PRODID:-//Coastal Alabama Senior Softball - ECPv6.13.2//NONSGML v1.0//EN
CALSCALE:GREGORIAN
METHOD:PUBLISH
X-ORIGINAL-URL:https://coastalalabamaseniorsoftball.com
X-WR-CALDESC:Events for Coastal Alabama Senior Softball
REFRESH-INTERVAL;VALUE=DURATION:PT1H
X-Robots-Tag:noindex
X-PUBLISHED-TTL:PT1H
BEGIN:VTIMEZONE
TZID:America/Chicago
BEGIN:DAYLIGHT
TZOFFSETFROM:-0600
TZOFFSETTO:-0500
TZNAME:CDT
DTSTART:20230312T080000
END:DAYLIGHT
BEGIN:STANDARD
TZOFFSETFROM:-0500
TZOFFSETTO:-0600
TZNAME:CST
DTSTART:20231105T070000
END:STANDARD
END:VTIMEZONE
BEGIN:VEVENT
DTSTART;TZID=America/Chicago:20230301T090000
DTEND;TZID=America/Chicago:20230301T120000
DTSTAMP:20260423T103600
CREATED:20230213T171712Z
LAST-MODIFIED:20230213T171712Z
UID:3214-1677661200-1677672000@coastalalabamaseniorsoftball.com
SUMMARY:Game at Max Griffin Park
DESCRIPTION:
URL:https://coastalalabamaseniorsoftball.com/event/game-at-max-griffin-park-20/
LOCATION:Max Griffin Park\, 300 W. Roosevelt Ave.\, Foley\, AL\, United States
CATEGORIES:Games
END:VEVENT
BEGIN:VEVENT
DTSTART;TZID=America/Chicago:20230303T090000
DTEND;TZID=America/Chicago:20230303T120000
DTSTAMP:20260423T103600
CREATED:20230213T171130Z
LAST-MODIFIED:20230213T171130Z
UID:3198-1677834000-1677844800@coastalalabamaseniorsoftball.com
SUMMARY:Game at Orange Beach Sportsplex
DESCRIPTION:
URL:https://coastalalabamaseniorsoftball.com/event/game-at-orange-beach-sportsplex-2/
LOCATION:Orange Beach Sportsplex\, 4389 William Silvers Pkwy\, Orange Beach\, AL\, 36561\, United States
CATEGORIES:Games
END:VEVENT
BEGIN:VEVENT
DTSTART;TZID=America/Chicago:20230306T090000
DTEND;TZID=America/Chicago:20230306T120000
DTSTAMP:20260423T103600
CREATED:20221205T105716Z
LAST-MODIFIED:20221205T105716Z
UID:3125-1678093200-1678104000@coastalalabamaseniorsoftball.com
SUMMARY:Game at Gulf Shores Sportsplex
DESCRIPTION:
URL:https://coastalalabamaseniorsoftball.com/event/game-at-gulf-shores-sportsplex-25/
LOCATION:Gulf Shores Sportsplex\, 19025 Oak Road West\, Gulf Shores\, AL\, 36542\, United States
CATEGORIES:Games
END:VEVENT
BEGIN:VEVENT
DTSTART;TZID=America/Chicago:20230310T090000
DTEND;TZID=America/Chicago:20230310T120000
DTSTAMP:20260423T103600
CREATED:20230213T171203Z
LAST-MODIFIED:20230213T171203Z
UID:3200-1678438800-1678449600@coastalalabamaseniorsoftball.com
SUMMARY:Game at Orange Beach Sportsplex
DESCRIPTION:
URL:https://coastalalabamaseniorsoftball.com/event/game-at-orange-beach-sportsplex-3/
LOCATION:Orange Beach Sportsplex\, 4389 William Silvers Pkwy\, Orange Beach\, AL\, 36561\, United States
CATEGORIES:Games
END:VEVENT
BEGIN:VEVENT
DTSTART;TZID=America/Chicago:20230313T090000
DTEND;TZID=America/Chicago:20230313T120000
DTSTAMP:20260423T103600
CREATED:20230213T171812Z
LAST-MODIFIED:20230213T171812Z
UID:3216-1678698000-1678708800@coastalalabamaseniorsoftball.com
SUMMARY:Game at Max Griffin Park
DESCRIPTION:
URL:https://coastalalabamaseniorsoftball.com/event/game-at-max-griffin-park-21/
LOCATION:Max Griffin Park\, 300 W. Roosevelt Ave.\, Foley\, AL\, United States
CATEGORIES:Games
END:VEVENT
BEGIN:VEVENT
DTSTART;TZID=America/Chicago:20230317T090000
DTEND;TZID=America/Chicago:20230317T120000
DTSTAMP:20260423T103600
CREATED:20230213T171236Z
LAST-MODIFIED:20230213T171236Z
UID:3202-1679043600-1679054400@coastalalabamaseniorsoftball.com
SUMMARY:Game at Orange Beach Sportsplex
DESCRIPTION:
URL:https://coastalalabamaseniorsoftball.com/event/game-at-orange-beach-sportsplex-4/
LOCATION:Orange Beach Sportsplex\, 4389 William Silvers Pkwy\, Orange Beach\, AL\, 36561\, United States
CATEGORIES:Games
END:VEVENT
BEGIN:VEVENT
DTSTART;TZID=America/Chicago:20230320T090000
DTEND;TZID=America/Chicago:20230320T120000
DTSTAMP:20260423T103600
CREATED:20230213T171851Z
LAST-MODIFIED:20230213T171851Z
UID:3218-1679302800-1679313600@coastalalabamaseniorsoftball.com
SUMMARY:Game at Max Griffin Park
DESCRIPTION:
URL:https://coastalalabamaseniorsoftball.com/event/game-at-max-griffin-park-22/
LOCATION:Max Griffin Park\, 300 W. Roosevelt Ave.\, Foley\, AL\, United States
CATEGORIES:Games
END:VEVENT
BEGIN:VEVENT
DTSTART;TZID=America/Chicago:20230324T090000
DTEND;TZID=America/Chicago:20230324T120000
DTSTAMP:20260423T103600
CREATED:20230213T171316Z
LAST-MODIFIED:20230213T171316Z
UID:3204-1679648400-1679659200@coastalalabamaseniorsoftball.com
SUMMARY:Game at Orange Beach Sportsplex
DESCRIPTION:
URL:https://coastalalabamaseniorsoftball.com/event/game-at-orange-beach-sportsplex-5/
LOCATION:Orange Beach Sportsplex\, 4389 William Silvers Pkwy\, Orange Beach\, AL\, 36561\, United States
CATEGORIES:Games
END:VEVENT
BEGIN:VEVENT
DTSTART;TZID=America/Chicago:20230327T090000
DTEND;TZID=America/Chicago:20230327T120000
DTSTAMP:20260423T103600
CREATED:20230213T172723Z
LAST-MODIFIED:20230213T172723Z
UID:3235-1679907600-1679918400@coastalalabamaseniorsoftball.com
SUMMARY:Game at Aaronville Park in Foley
DESCRIPTION:
URL:https://coastalalabamaseniorsoftball.com/event/game-at-aaronville-park-in-foley/
LOCATION:Aaronville Park\, 1409 S. Pine Street\, Foley\, AL\, 36535\, United States
CATEGORIES:Games
END:VEVENT
BEGIN:VEVENT
DTSTART;TZID=America/Chicago:20230331T090000
DTEND;TZID=America/Chicago:20230331T120000
DTSTAMP:20260423T103600
CREATED:20230227T113643Z
LAST-MODIFIED:20230227T113643Z
UID:3274-1680253200-1680264000@coastalalabamaseniorsoftball.com
SUMMARY:Game at Garrett Park
DESCRIPTION:
URL:https://coastalalabamaseniorsoftball.com/event/game-at-garrett-park/
LOCATION:Garrett Park\, 18080 Pennsylvania St\, Robertsdale\, Alabama\, AL\, 36567\, United States
CATEGORIES:Games
END:VEVENT
END:VCALENDAR