BEGIN:VCALENDAR
VERSION:2.0
PRODID:-//Coastal Alabama Senior Softball - ECPv6.13.2//NONSGML v1.0//EN
CALSCALE:GREGORIAN
METHOD:PUBLISH
X-ORIGINAL-URL:https://coastalalabamaseniorsoftball.com
X-WR-CALDESC:Events for Coastal Alabama Senior Softball
REFRESH-INTERVAL;VALUE=DURATION:PT1H
X-Robots-Tag:noindex
X-PUBLISHED-TTL:PT1H
BEGIN:VTIMEZONE
TZID:America/Chicago
BEGIN:DAYLIGHT
TZOFFSETFROM:-0600
TZOFFSETTO:-0500
TZNAME:CDT
DTSTART:20220313T080000
END:DAYLIGHT
BEGIN:STANDARD
TZOFFSETFROM:-0500
TZOFFSETTO:-0600
TZNAME:CST
DTSTART:20221106T070000
END:STANDARD
END:VTIMEZONE
BEGIN:VEVENT
DTSTART;TZID=America/Chicago:20221202T090000
DTEND;TZID=America/Chicago:20221202T120000
DTSTAMP:20260423T164327
CREATED:20220929T114603Z
LAST-MODIFIED:20220929T114603Z
UID:3035-1669971600-1669982400@coastalalabamaseniorsoftball.com
SUMMARY:Game at Orange Beach Sports Complex
DESCRIPTION:
URL:https://coastalalabamaseniorsoftball.com/event/game-at-orange-beach-sports-complex-17/
LOCATION:Orange Beach Sportsplex\, 4389 William Silvers Pkwy\, Orange Beach\, AL\, 36561\, United States
CATEGORIES:Games
END:VEVENT
BEGIN:VEVENT
DTSTART;TZID=America/Chicago:20221205T090000
DTEND;TZID=America/Chicago:20221205T120000
DTSTAMP:20260423T164327
CREATED:20221205T104914Z
LAST-MODIFIED:20221205T104914Z
UID:3100-1670230800-1670241600@coastalalabamaseniorsoftball.com
SUMMARY:Game at Gulf Shores Sportsplex
DESCRIPTION:
URL:https://coastalalabamaseniorsoftball.com/event/game-at-gulf-shores-sportsplex-13/
LOCATION:Gulf Shores Sportsplex\, 19025 Oak Road West\, Gulf Shores\, AL\, 36542\, United States
CATEGORIES:Games
END:VEVENT
BEGIN:VEVENT
DTSTART;TZID=America/Chicago:20221209T090000
DTEND;TZID=America/Chicago:20221209T120000
DTSTAMP:20260423T164327
CREATED:20220929T114646Z
LAST-MODIFIED:20220929T114646Z
UID:3037-1670576400-1670587200@coastalalabamaseniorsoftball.com
SUMMARY:Game at Orange Beach Sports Complex
DESCRIPTION:
URL:https://coastalalabamaseniorsoftball.com/event/game-at-orange-beach-sports-complex-18/
LOCATION:Orange Beach Sportsplex\, 4389 William Silvers Pkwy\, Orange Beach\, AL\, 36561\, United States
CATEGORIES:Games
END:VEVENT
BEGIN:VEVENT
DTSTART;TZID=America/Chicago:20221210T170000
DTEND;TZID=America/Chicago:20221210T200000
DTSTAMP:20260423T164327
CREATED:20221023T095516Z
LAST-MODIFIED:20221023T095516Z
UID:3077-1670691600-1670702400@coastalalabamaseniorsoftball.com
SUMMARY:CASS Christmas Party
DESCRIPTION:
URL:https://coastalalabamaseniorsoftball.com/event/cass-christmas-party/
LOCATION:Summer Chase Condos\, 25800 Perdido Beach Blvd\, Orange Beach\, AL\, 36561\, United States
CATEGORIES:Events
END:VEVENT
BEGIN:VEVENT
DTSTART;TZID=America/Chicago:20221212T090000
DTEND;TZID=America/Chicago:20221212T120000
DTSTAMP:20260423T164327
CREATED:20221205T104959Z
LAST-MODIFIED:20221205T104959Z
UID:3102-1670835600-1670846400@coastalalabamaseniorsoftball.com
SUMMARY:Game at Gulf Shores Sportsplex
DESCRIPTION:
URL:https://coastalalabamaseniorsoftball.com/event/game-at-gulf-shores-sportsplex-14/
LOCATION:Gulf Shores Sportsplex\, 19025 Oak Road West\, Gulf Shores\, AL\, 36542\, United States
CATEGORIES:Games
END:VEVENT
BEGIN:VEVENT
DTSTART;TZID=America/Chicago:20221216T090000
DTEND;TZID=America/Chicago:20221216T120000
DTSTAMP:20260423T164327
CREATED:20220929T115121Z
LAST-MODIFIED:20220929T115121Z
UID:3043-1671181200-1671192000@coastalalabamaseniorsoftball.com
SUMMARY:Game at Orange Beach Sports Complex
DESCRIPTION:
URL:https://coastalalabamaseniorsoftball.com/event/game-at-orange-beach-sports-complex-21/
LOCATION:Orange Beach Sportsplex\, 4389 William Silvers Pkwy\, Orange Beach\, AL\, 36561\, United States
CATEGORIES:Games
END:VEVENT
BEGIN:VEVENT
DTSTART;TZID=America/Chicago:20221219T090000
DTEND;TZID=America/Chicago:20221219T120000
DTSTAMP:20260423T164327
CREATED:20221205T105027Z
LAST-MODIFIED:20221205T105027Z
UID:3104-1671440400-1671451200@coastalalabamaseniorsoftball.com
SUMMARY:Game at Gulf Shores Sportsplex
DESCRIPTION:
URL:https://coastalalabamaseniorsoftball.com/event/game-at-gulf-shores-sportsplex-15/
LOCATION:Gulf Shores Sportsplex\, 19025 Oak Road West\, Gulf Shores\, AL\, 36542\, United States
CATEGORIES:Games
END:VEVENT
BEGIN:VEVENT
DTSTART;TZID=America/Chicago:20221223T090000
DTEND;TZID=America/Chicago:20221223T120000
DTSTAMP:20260423T164327
CREATED:20220929T114818Z
LAST-MODIFIED:20220929T114818Z
UID:3039-1671786000-1671796800@coastalalabamaseniorsoftball.com
SUMMARY:Game at Orange Beach Sports Complex
DESCRIPTION:
URL:https://coastalalabamaseniorsoftball.com/event/game-at-orange-beach-sports-complex-19/
LOCATION:Orange Beach Sportsplex\, 4389 William Silvers Pkwy\, Orange Beach\, AL\, 36561\, United States
CATEGORIES:Games
END:VEVENT
BEGIN:VEVENT
DTSTART;TZID=America/Chicago:20221227T090000
DTEND;TZID=America/Chicago:20221227T120000
DTSTAMP:20260423T164327
CREATED:20221207T174408Z
LAST-MODIFIED:20221207T174408Z
UID:3127-1672131600-1672142400@coastalalabamaseniorsoftball.com
SUMMARY:Game at Gulf Shores Sportsplex
DESCRIPTION:
URL:https://coastalalabamaseniorsoftball.com/event/game-at-gulf-shores-sportsplex-26/
LOCATION:Gulf Shores Sportsplex\, 19025 Oak Road West\, Gulf Shores\, AL\, 36542\, United States
CATEGORIES:Games
END:VEVENT
BEGIN:VEVENT
DTSTART;TZID=America/Chicago:20221230T090000
DTEND;TZID=America/Chicago:20221230T120000
DTSTAMP:20260423T164327
CREATED:20220929T114951Z
LAST-MODIFIED:20220929T114951Z
UID:3041-1672390800-1672401600@coastalalabamaseniorsoftball.com
SUMMARY:Game at Orange Beach Sports Complex
DESCRIPTION:
URL:https://coastalalabamaseniorsoftball.com/event/game-at-orange-beach-sports-complex-20/
LOCATION:Orange Beach Sportsplex\, 4389 William Silvers Pkwy\, Orange Beach\, AL\, 36561\, United States
CATEGORIES:Games
END:VEVENT
END:VCALENDAR