BEGIN:VCALENDAR
VERSION:2.0
PRODID:-//Coastal Alabama Senior Softball - ECPv6.13.2//NONSGML v1.0//EN
CALSCALE:GREGORIAN
METHOD:PUBLISH
X-WR-CALNAME:Coastal Alabama Senior Softball
X-ORIGINAL-URL:https://coastalalabamaseniorsoftball.com
X-WR-CALDESC:Events for Coastal Alabama Senior Softball
REFRESH-INTERVAL;VALUE=DURATION:PT1H
X-Robots-Tag:noindex
X-PUBLISHED-TTL:PT1H
BEGIN:VTIMEZONE
TZID:America/Chicago
BEGIN:DAYLIGHT
TZOFFSETFROM:-0600
TZOFFSETTO:-0500
TZNAME:CDT
DTSTART:20220313T080000
END:DAYLIGHT
BEGIN:STANDARD
TZOFFSETFROM:-0500
TZOFFSETTO:-0600
TZNAME:CST
DTSTART:20221106T070000
END:STANDARD
END:VTIMEZONE
BEGIN:VEVENT
DTSTART;TZID=America/Chicago:20220901T083000
DTEND;TZID=America/Chicago:20220901T113000
DTSTAMP:20260423T212546
CREATED:20220722T143154Z
LAST-MODIFIED:20220906T233058Z
UID:2928-1662021000-1662031800@coastalalabamaseniorsoftball.com
SUMMARY:Game at Max Griffin Park
DESCRIPTION:
URL:https://coastalalabamaseniorsoftball.com/event/game-at-max-griffin-park-11/
LOCATION:Max Griffin Park\, 300 W. Roosevelt Ave.\, Foley\, AL\, United States
CATEGORIES:Games
END:VEVENT
BEGIN:VEVENT
DTSTART;TZID=America/Chicago:20220902T090000
DTEND;TZID=America/Chicago:20220902T120000
DTSTAMP:20260423T212546
CREATED:20220812T095725Z
LAST-MODIFIED:20220812T095725Z
UID:2979-1662109200-1662120000@coastalalabamaseniorsoftball.com
SUMMARY:Game at Orange Beach Sports Complex
DESCRIPTION:
URL:https://coastalalabamaseniorsoftball.com/event/game-at-orange-beach-sports-complex-4/
LOCATION:Orange Beach Sportsplex\, 4389 William Silvers Pkwy\, Orange Beach\, AL\, 36561\, United States
CATEGORIES:Games
END:VEVENT
BEGIN:VEVENT
DTSTART;TZID=America/Chicago:20220908T083000
DTEND;TZID=America/Chicago:20220908T113000
DTSTAMP:20260423T212546
CREATED:20220722T143223Z
LAST-MODIFIED:20220906T233051Z
UID:2930-1662625800-1662636600@coastalalabamaseniorsoftball.com
SUMMARY:Game at Max Griffin Park
DESCRIPTION:
URL:https://coastalalabamaseniorsoftball.com/event/game-at-max-griffin-park-12/
LOCATION:Max Griffin Park\, 300 W. Roosevelt Ave.\, Foley\, AL\, United States
CATEGORIES:Games
END:VEVENT
BEGIN:VEVENT
DTSTART;TZID=America/Chicago:20220909T090000
DTEND;TZID=America/Chicago:20220909T120000
DTSTAMP:20260423T212546
CREATED:20220812T095805Z
LAST-MODIFIED:20220812T095805Z
UID:2981-1662714000-1662724800@coastalalabamaseniorsoftball.com
SUMMARY:Game at Orange Beach Sports Complex
DESCRIPTION:
URL:https://coastalalabamaseniorsoftball.com/event/game-at-orange-beach-sports-complex-5/
LOCATION:Orange Beach Sportsplex\, 4389 William Silvers Pkwy\, Orange Beach\, AL\, 36561\, United States
CATEGORIES:Games
END:VEVENT
BEGIN:VEVENT
DTSTART;TZID=America/Chicago:20220912T083000
DTEND;TZID=America/Chicago:20220912T120000
DTSTAMP:20260423T212546
CREATED:20220615T105113Z
LAST-MODIFIED:20220615T105113Z
UID:2808-1662971400-1662984000@coastalalabamaseniorsoftball.com
SUMMARY:Game at Gulf Shores Sportsplex
DESCRIPTION:September 12\, at the  Gulf Shores Sportsplex on Oak Rd. (CR-6). Early BP 8:30 AM\, Warmup 9:00 AM Game at 9:30 AM. Early start only if the gate is open?
URL:https://coastalalabamaseniorsoftball.com/event/game-at-gulf-shores-sportsplex-5/
LOCATION:Gulf Shores Sportsplex\, 19025 Oak Road West\, Gulf Shores\, AL\, 36542\, United States
CATEGORIES:Games
END:VEVENT
BEGIN:VEVENT
DTSTART;TZID=America/Chicago:20220915T083000
DTEND;TZID=America/Chicago:20220915T113000
DTSTAMP:20260423T212546
CREATED:20220722T143255Z
LAST-MODIFIED:20220906T233037Z
UID:2932-1663230600-1663241400@coastalalabamaseniorsoftball.com
SUMMARY:Game at Max Griffin Park
DESCRIPTION:
URL:https://coastalalabamaseniorsoftball.com/event/game-at-max-griffin-park-13/
LOCATION:Max Griffin Park\, 300 W. Roosevelt Ave.\, Foley\, AL\, United States
CATEGORIES:Games
END:VEVENT
BEGIN:VEVENT
DTSTART;TZID=America/Chicago:20220916T090000
DTEND;TZID=America/Chicago:20220916T120000
DTSTAMP:20260423T212546
CREATED:20220812T095843Z
LAST-MODIFIED:20220812T095843Z
UID:2983-1663318800-1663329600@coastalalabamaseniorsoftball.com
SUMMARY:Game at Orange Beach Sports Complex
DESCRIPTION:
URL:https://coastalalabamaseniorsoftball.com/event/game-at-orange-beach-sports-complex-6/
LOCATION:Orange Beach Sportsplex\, 4389 William Silvers Pkwy\, Orange Beach\, AL\, 36561\, United States
CATEGORIES:Games
END:VEVENT
BEGIN:VEVENT
DTSTART;TZID=America/Chicago:20220919T083000
DTEND;TZID=America/Chicago:20220919T120000
DTSTAMP:20260423T212546
CREATED:20220615T105227Z
LAST-MODIFIED:20220615T105227Z
UID:2810-1663576200-1663588800@coastalalabamaseniorsoftball.com
SUMMARY:Game at Gulf Shores Sportsplex
DESCRIPTION:September 19\, at the  Gulf Shores Sportsplex on Oak Rd. (CR-6). Early BP 8:30 AM\, Warmup 9:00 AM Game at 9:30 AM. Early start only if the gate is open?
URL:https://coastalalabamaseniorsoftball.com/event/game-at-gulf-shores-sportsplex-6/
LOCATION:Gulf Shores Sportsplex\, 19025 Oak Road West\, Gulf Shores\, AL\, 36542\, United States
CATEGORIES:Games
END:VEVENT
BEGIN:VEVENT
DTSTART;TZID=America/Chicago:20220923T090000
DTEND;TZID=America/Chicago:20220923T120000
DTSTAMP:20260423T212546
CREATED:20220812T095921Z
LAST-MODIFIED:20220812T095921Z
UID:2985-1663923600-1663934400@coastalalabamaseniorsoftball.com
SUMMARY:Game at Orange Beach Sports Complex
DESCRIPTION:
URL:https://coastalalabamaseniorsoftball.com/event/game-at-orange-beach-sports-complex-7/
LOCATION:Orange Beach Sportsplex\, 4389 William Silvers Pkwy\, Orange Beach\, AL\, 36561\, United States
CATEGORIES:Games
END:VEVENT
BEGIN:VEVENT
DTSTART;TZID=America/Chicago:20220926T083000
DTEND;TZID=America/Chicago:20220926T120000
DTSTAMP:20260423T212546
CREATED:20220615T105323Z
LAST-MODIFIED:20220615T105323Z
UID:2812-1664181000-1664193600@coastalalabamaseniorsoftball.com
SUMMARY:Game at Gulf Shores Sportsplex
DESCRIPTION:September 26\, at the  Gulf Shores Sportsplex on Oak Rd. (CR-6). Early BP 8:30 AM\, Warmup 9:00 AM Game at 9:30 AM. Early start only if the gate is open?
URL:https://coastalalabamaseniorsoftball.com/event/game-at-gulf-shores-sportsplex-7/
LOCATION:Gulf Shores Sportsplex\, 19025 Oak Road West\, Gulf Shores\, AL\, 36542\, United States
CATEGORIES:Games
END:VEVENT
BEGIN:VEVENT
DTSTART;TZID=America/Chicago:20220928T140000
DTEND;TZID=America/Chicago:20220928T180000
DTSTAMP:20260423T212546
CREATED:20220906T232636Z
LAST-MODIFIED:20220906T233026Z
UID:3006-1664373600-1664388000@coastalalabamaseniorsoftball.com
SUMMARY:End of the Year Cookout
DESCRIPTION:End of the Year Cookout on Marina Rd. in Orange Beach
URL:https://coastalalabamaseniorsoftball.com/event/end-of-the-year-cookout/
LOCATION:AL
CATEGORIES:Events
END:VEVENT
BEGIN:VEVENT
DTSTART;TZID=America/Chicago:20220929T083000
DTEND;TZID=America/Chicago:20220929T113000
DTSTAMP:20260423T212546
CREATED:20220722T143350Z
LAST-MODIFIED:20220906T233016Z
UID:2936-1664440200-1664451000@coastalalabamaseniorsoftball.com
SUMMARY:Game at Max Griffin Park
DESCRIPTION:
URL:https://coastalalabamaseniorsoftball.com/event/game-at-max-griffin-park-15/
LOCATION:Max Griffin Park\, 300 W. Roosevelt Ave.\, Foley\, AL\, United States
CATEGORIES:Games
END:VEVENT
BEGIN:VEVENT
DTSTART;TZID=America/Chicago:20220930T090000
DTEND;TZID=America/Chicago:20220930T120000
DTSTAMP:20260423T212546
CREATED:20220812T100009Z
LAST-MODIFIED:20220812T100009Z
UID:2987-1664528400-1664539200@coastalalabamaseniorsoftball.com
SUMMARY:Game at Orange Beach Sports Complex
DESCRIPTION:
URL:https://coastalalabamaseniorsoftball.com/event/game-at-orange-beach-sports-complex-8/
LOCATION:Orange Beach Sportsplex\, 4389 William Silvers Pkwy\, Orange Beach\, AL\, 36561\, United States
CATEGORIES:Games
END:VEVENT
END:VCALENDAR