BEGIN:VCALENDAR
VERSION:2.0
PRODID:-//Coastal Alabama Senior Softball - ECPv6.13.2//NONSGML v1.0//EN
CALSCALE:GREGORIAN
METHOD:PUBLISH
X-WR-CALNAME:Coastal Alabama Senior Softball
X-ORIGINAL-URL:https://coastalalabamaseniorsoftball.com
X-WR-CALDESC:Events for Coastal Alabama Senior Softball
REFRESH-INTERVAL;VALUE=DURATION:PT1H
X-Robots-Tag:noindex
X-PUBLISHED-TTL:PT1H
BEGIN:VTIMEZONE
TZID:America/Chicago
BEGIN:DAYLIGHT
TZOFFSETFROM:-0600
TZOFFSETTO:-0500
TZNAME:CDT
DTSTART:20220313T080000
END:DAYLIGHT
BEGIN:STANDARD
TZOFFSETFROM:-0500
TZOFFSETTO:-0600
TZNAME:CST
DTSTART:20221106T070000
END:STANDARD
END:VTIMEZONE
BEGIN:VEVENT
DTSTART;TZID=America/Chicago:20220620T083000
DTEND;TZID=America/Chicago:20220620T120000
DTSTAMP:20260420T211534
CREATED:20220615T095636Z
LAST-MODIFIED:20220615T101428Z
UID:2761-1655713800-1655726400@coastalalabamaseniorsoftball.com
SUMMARY:Game at Orange Beach Sportsplex
DESCRIPTION:June 20 Orange Beach Sportsplex\, Early BP 8:30 AM Warm up 9 AM Game 9:30 am.
URL:https://coastalalabamaseniorsoftball.com/event/game-date-orange-beach-sportsplex/
LOCATION:Orange Beach Sportsplex\, 4389 William Silvers Pkwy\, Orange Beach\, AL\, 36561\, United States
CATEGORIES:Games
END:VEVENT
BEGIN:VEVENT
DTSTART;TZID=America/Chicago:20220616T180000
DTEND;TZID=America/Chicago:20220616T210000
DTSTAMP:20260420T211534
CREATED:20220615T100114Z
LAST-MODIFIED:20220615T101205Z
UID:2768-1655402400-1655413200@coastalalabamaseniorsoftball.com
SUMMARY:Music at Meyer Park in Gulf Shores
DESCRIPTION:June 16\, Music at Meyer Park in Gulf Shores 6:00 PM\, bring a chair & a  cooler\, wear your CASS Gear. They sell food & drinks there. Address 400 E\, 22nd Ave.
URL:https://coastalalabamaseniorsoftball.com/event/music-at-meyer-park-in-gulf-shores/
LOCATION:Meyer Park\, 400 East 22nd Avenue\, Gulf Shores\, AL\, 36542\, United States
CATEGORIES:Events
END:VEVENT
BEGIN:VEVENT
DTSTART;TZID=America/Chicago:20220616T083000
DTEND;TZID=America/Chicago:20220616T120000
DTSTAMP:20260420T211534
CREATED:20220615T095253Z
LAST-MODIFIED:20220615T101000Z
UID:2756-1655368200-1655380800@coastalalabamaseniorsoftball.com
SUMMARY:Game at Max Griffin Park
DESCRIPTION:June 16\, Foley\, Max Griffin Park\, Early BP 8:30\, Warm up 9 AM\, Game at 9:30 am.
URL:https://coastalalabamaseniorsoftball.com/event/2756/
LOCATION:Max Griffin Park\, 300 W. Roosevelt Ave.\, Foley\, AL\, United States
CATEGORIES:Games
END:VEVENT
END:VCALENDAR