BEGIN:VCALENDAR
VERSION:2.0
PRODID:-//Coastal Alabama Senior Softball - ECPv6.13.2//NONSGML v1.0//EN
CALSCALE:GREGORIAN
METHOD:PUBLISH
X-WR-CALNAME:Coastal Alabama Senior Softball
X-ORIGINAL-URL:https://coastalalabamaseniorsoftball.com
X-WR-CALDESC:Events for Coastal Alabama Senior Softball
REFRESH-INTERVAL;VALUE=DURATION:PT1H
X-Robots-Tag:noindex
X-PUBLISHED-TTL:PT1H
BEGIN:VTIMEZONE
TZID:America/Chicago
BEGIN:DAYLIGHT
TZOFFSETFROM:-0600
TZOFFSETTO:-0500
TZNAME:CDT
DTSTART:20220313T080000
END:DAYLIGHT
BEGIN:STANDARD
TZOFFSETFROM:-0500
TZOFFSETTO:-0600
TZNAME:CST
DTSTART:20221106T070000
END:STANDARD
END:VTIMEZONE
BEGIN:VEVENT
DTSTART;TZID=America/Chicago:20221007T090000
DTEND;TZID=America/Chicago:20221007T120000
DTSTAMP:20260423T212522
CREATED:20220812T100121Z
LAST-MODIFIED:20220812T100121Z
UID:2989-1665133200-1665144000@coastalalabamaseniorsoftball.com
SUMMARY:Game at Orange Beach Sports Complex
DESCRIPTION:
URL:https://coastalalabamaseniorsoftball.com/event/game-at-orange-beach-sports-complex-9/
LOCATION:Orange Beach Sportsplex\, 4389 William Silvers Pkwy\, Orange Beach\, AL\, 36561\, United States
CATEGORIES:Games
END:VEVENT
BEGIN:VEVENT
DTSTART;TZID=America/Chicago:20221007T180000
DTEND;TZID=America/Chicago:20221007T220000
DTSTAMP:20260423T212522
CREATED:20220906T232831Z
LAST-MODIFIED:20220906T232831Z
UID:3010-1665165600-1665180000@coastalalabamaseniorsoftball.com
SUMMARY:Shrimpfest Beer Tent
DESCRIPTION:Shrimpfest Beer Tent note time change it’s from 6 PM to 10 PM\,
URL:https://coastalalabamaseniorsoftball.com/event/shrimpfest-beer-tent-2/
LOCATION:AL
CATEGORIES:Events
END:VEVENT
END:VCALENDAR