BEGIN:VCALENDAR
VERSION:2.0
PRODID:-//Coastal Alabama Senior Softball - ECPv6.13.2//NONSGML v1.0//EN
CALSCALE:GREGORIAN
METHOD:PUBLISH
X-ORIGINAL-URL:https://coastalalabamaseniorsoftball.com
X-WR-CALDESC:Events for Coastal Alabama Senior Softball
REFRESH-INTERVAL;VALUE=DURATION:PT1H
X-Robots-Tag:noindex
X-PUBLISHED-TTL:PT1H
BEGIN:VTIMEZONE
TZID:America/Chicago
BEGIN:DAYLIGHT
TZOFFSETFROM:-0600
TZOFFSETTO:-0500
TZNAME:CDT
DTSTART:20220313T080000
END:DAYLIGHT
BEGIN:STANDARD
TZOFFSETFROM:-0500
TZOFFSETTO:-0600
TZNAME:CST
DTSTART:20221106T070000
END:STANDARD
END:VTIMEZONE
BEGIN:VEVENT
DTSTART;TZID=America/Chicago:20220728T083000
DTEND;TZID=America/Chicago:20220728T120000
DTSTAMP:20260424T032237
CREATED:20220615T102455Z
LAST-MODIFIED:20220615T102510Z
UID:2787-1658997000-1659009600@coastalalabamaseniorsoftball.com
SUMMARY:Game at Max Griffin Park
DESCRIPTION:July 28\, in Foley\, Max Griffin Park\, Early BP 8:30 AM\, Warm up 9 AM\, Game at 9:30 AM.
URL:https://coastalalabamaseniorsoftball.com/event/game-at-max-griffin-park-6/
LOCATION:Max Griffin Park\, 300 W. Roosevelt Ave.\, Foley\, AL\, United States
CATEGORIES:Games
END:VEVENT
END:VCALENDAR