BEGIN:VCALENDAR
VERSION:2.0
PRODID:-//Coastal Alabama Senior Softball - ECPv6.13.2//NONSGML v1.0//EN
CALSCALE:GREGORIAN
METHOD:PUBLISH
X-WR-CALNAME:Coastal Alabama Senior Softball
X-ORIGINAL-URL:https://coastalalabamaseniorsoftball.com
X-WR-CALDESC:Events for Coastal Alabama Senior Softball
REFRESH-INTERVAL;VALUE=DURATION:PT1H
X-Robots-Tag:noindex
X-PUBLISHED-TTL:PT1H
BEGIN:VTIMEZONE
TZID:America/Chicago
BEGIN:DAYLIGHT
TZOFFSETFROM:-0600
TZOFFSETTO:-0500
TZNAME:CDT
DTSTART:20220313T080000
END:DAYLIGHT
BEGIN:STANDARD
TZOFFSETFROM:-0500
TZOFFSETTO:-0600
TZNAME:CST
DTSTART:20221106T070000
END:STANDARD
END:VTIMEZONE
BEGIN:VEVENT
DTSTART;TZID=America/Chicago:20220630T083000
DTEND;TZID=America/Chicago:20220630T120000
DTSTAMP:20260424T032110
CREATED:20220615T100806Z
LAST-MODIFIED:20220615T101604Z
UID:2772-1656577800-1656590400@coastalalabamaseniorsoftball.com
SUMMARY:Game at Max Griffin Park
DESCRIPTION:June 30\, Foley\, Max Griffin Park\, Early BP 8:30 AM\, Warm up 9 AM\, Game at 9:30 AM.
URL:https://coastalalabamaseniorsoftball.com/event/game-at-max-griffin-park-2/
LOCATION:Max Griffin Park\, 300 W. Roosevelt Ave.\, Foley\, AL\, United States
CATEGORIES:Games
END:VEVENT
BEGIN:VEVENT
DTSTART;TZID=America/Chicago:20220630T130000
DTEND;TZID=America/Chicago:20220630T140000
DTSTAMP:20260424T032110
CREATED:20220615T101811Z
LAST-MODIFIED:20220615T101811Z
UID:2779-1656594000-1656597600@coastalalabamaseniorsoftball.com
SUMMARY:Lunch After The Game
DESCRIPTION:June 30\, CASS Luncheon after the game. Place TBD\, Buffalo Wild Wings or Island Wings?
URL:https://coastalalabamaseniorsoftball.com/event/lunch-after-the-game/
LOCATION:Max Griffin Park\, 300 W. Roosevelt Ave.\, Foley\, AL\, United States
CATEGORIES:Events
END:VEVENT
END:VCALENDAR